BEGIN:VCALENDAR
VERSION:2.0
PRODID:-//Little Elm Box 620 Support Co. - ECPv6.15.20//NONSGML v1.0//EN
CALSCALE:GREGORIAN
METHOD:PUBLISH
X-WR-CALNAME:Little Elm Box 620 Support Co.
X-ORIGINAL-URL:https://www.box620.org
X-WR-CALDESC:Events for Little Elm Box 620 Support Co.
REFRESH-INTERVAL;VALUE=DURATION:PT1H
X-Robots-Tag:noindex
X-PUBLISHED-TTL:PT1H
BEGIN:VTIMEZONE
TZID:America/Chicago
BEGIN:DAYLIGHT
TZOFFSETFROM:-0600
TZOFFSETTO:-0500
TZNAME:CDT
DTSTART:20200308T080000
END:DAYLIGHT
BEGIN:STANDARD
TZOFFSETFROM:-0500
TZOFFSETTO:-0600
TZNAME:CST
DTSTART:20201101T070000
END:STANDARD
BEGIN:DAYLIGHT
TZOFFSETFROM:-0600
TZOFFSETTO:-0500
TZNAME:CDT
DTSTART:20210314T080000
END:DAYLIGHT
BEGIN:STANDARD
TZOFFSETFROM:-0500
TZOFFSETTO:-0600
TZNAME:CST
DTSTART:20211107T070000
END:STANDARD
BEGIN:DAYLIGHT
TZOFFSETFROM:-0600
TZOFFSETTO:-0500
TZNAME:CDT
DTSTART:20220313T080000
END:DAYLIGHT
BEGIN:STANDARD
TZOFFSETFROM:-0500
TZOFFSETTO:-0600
TZNAME:CST
DTSTART:20221106T070000
END:STANDARD
END:VTIMEZONE
BEGIN:VEVENT
DTSTART;VALUE=DATE:20211122
DTEND;VALUE=DATE:20211206
DTSTAMP:20260423T030250
CREATED:20211107T233337Z
LAST-MODIFIED:20211107T234319Z
UID:3761-1637539200-1638748799@www.box620.org
SUMMARY:Little Elm Fall 2021 Recycling Fundraiser
DESCRIPTION:  \nDonate your unused items to Recycle 2 Support between November 22 and December 5 and we will earn points for every pound donated when you mention Box 620! \n  \n\n\n    \n                        \n                        \n                        \n                    \n\n            \n                                                                \n                                                                            2417 FM 423\, Little Elm TX\, 75068\n                                                            \n    \n\n        \n                    \n                    \n\n            \n                                                                \n                                                                            Mon - Sat 9 am to 7 pm; Sun 10 am to 6 pm\n                                                            \n    \n\n        \n                        \n        \n            \n\n\n\n  \n\n\n    \n                        \n                        \n                        \n                    \n\n        \n    \n                    Accepted items            \n\n    \n    \n                                \n    \n\n\n        \n                        \n        \n                        \n                        \n                        \n                    \n\n            \n                                                                \n                                                        \n            \n                                                                \n                                                        \n            \n                                                                \n                                                        \n    \n\n\n\n        \n        Clothing\, shoes\, accessories\, jewelry     \n\n        \n                    \n                    \n\n            \n                                                                \n                                                        \n            \n                                                                \n                                                        \n            \n                                                                \n                                                        \n    \n\n\n\n        \n        Kitchenware\, small appliances\, electronics\, toys     \n\n        \n                    \n                    \n\n            \n                                                                \n                                                        \n            \n                                                                \n                                                        \n            \n                                                                \n                                                        \n    \n\n\n\n        \n        Books\, DVDs\, VHS tapes\, linens\, towels\, etc.     \n\n        \n                        \n        \n                        \n                        \n                        \n                    \n\n            \n                                                                \n                                                        \n    \n\n\n\n        \n        Televisions no older than 5 years     \n\n        \n                    \n                    \n\n            \n                                                                \n                                                        \n            \n                                                                \n                                                        \n            \n                                                                \n                                                        \n    \n\n\n\n        \n        Computers and mobile devices(please clear all personal information to protect your privacy)     \n\n        \n                        \n        \n            \n\n\n\n  \nDownload the flyer!
URL:https://www.box620.org/event/fall-2021-recycling-fundraiser-little-elm/
LOCATION:Little Elm drop-off location\, 2417 FM 423\, Little Elm\, TX\, 75068\, United States
CATEGORIES:Donate 2 Impact,R2S Fall 2021
ATTACH;FMTTYPE=image/png:https://www.box620.org/wp-content/uploads/2021/11/R2S-Fall-2021-Banner.png
END:VEVENT
BEGIN:VEVENT
DTSTART;VALUE=DATE:20211122
DTEND;VALUE=DATE:20211206
DTSTAMP:20260423T030250
CREATED:20211107T233657Z
LAST-MODIFIED:20211107T234238Z
UID:3765-1637539200-1638748799@www.box620.org
SUMMARY:Frisco Fall 2021 Recycling Fundraiser
DESCRIPTION:  \nDonate your unused items to Recycle 2 Support between November 22 and December 5 and we will earn points for every pound donated when you mention Box 620! \n  \n\n\n    \n                        \n                        \n                        \n                    \n\n            \n                                                                \n                                                                            10601 Ohio Dr\, Frisco TX 75035\n                                                            \n    \n\n        \n                    \n                    \n\n            \n                                                                \n                                                                            Daily 9:30 am to 6 pm (closed 12:30 - 1:30)\n                                                            \n    \n\n        \n                        \n        \n            \n\n\n\n  \n\n\n    \n                        \n                        \n                        \n                    \n\n        \n    \n                    Accepted items            \n\n    \n    \n                                \n    \n\n\n        \n                        \n        \n                        \n                        \n                        \n                    \n\n            \n                                                                \n                                                        \n            \n                                                                \n                                                        \n            \n                                                                \n                                                        \n    \n\n\n\n        \n        Clothing\, shoes\, accessories\, jewelry     \n\n        \n                    \n                    \n\n            \n                                                                \n                                                        \n            \n                                                                \n                                                        \n            \n                                                                \n                                                        \n    \n\n\n\n        \n        Kitchenware\, small appliances\, electronics\, toys     \n\n        \n                    \n                    \n\n            \n                                                                \n                                                        \n            \n                                                                \n                                                        \n            \n                                                                \n                                                        \n    \n\n\n\n        \n        Books\, DVDs\, VHS tapes\, linens\, towels\, etc.     \n\n        \n                        \n        \n                        \n                        \n                        \n                    \n\n            \n                                                                \n                                                        \n    \n\n\n\n        \n        Televisions no older than 5 years     \n\n        \n                    \n                    \n\n            \n                                                                \n                                                        \n            \n                                                                \n                                                        \n            \n                                                                \n                                                        \n    \n\n\n\n        \n        Computers and mobile devices(please clear all personal information to protect your privacy)     \n\n        \n                        \n        \n            \n\n\n\n  \nDownload the flyer!
URL:https://www.box620.org/event/fall-2021-recycling-fundraiser-frisco/
LOCATION:Frisco drop-off location\, 10601 Ohio Dr\, Frisco\, TX\, 75035\, United States
CATEGORIES:Donate 2 Impact,R2S Fall 2021
ATTACH;FMTTYPE=image/png:https://www.box620.org/wp-content/uploads/2021/11/R2S-Fall-2021-Banner.png
END:VEVENT
END:VCALENDAR