BEGIN:VCALENDAR
VERSION:2.0
PRODID:-//Little Elm Box 620 Support Co. - ECPv6.15.20//NONSGML v1.0//EN
CALSCALE:GREGORIAN
METHOD:PUBLISH
X-ORIGINAL-URL:https://www.box620.org
X-WR-CALDESC:Events for Little Elm Box 620 Support Co.
REFRESH-INTERVAL;VALUE=DURATION:PT1H
X-Robots-Tag:noindex
X-PUBLISHED-TTL:PT1H
BEGIN:VTIMEZONE
TZID:America/Chicago
BEGIN:DAYLIGHT
TZOFFSETFROM:-0600
TZOFFSETTO:-0500
TZNAME:CDT
DTSTART:20200308T080000
END:DAYLIGHT
BEGIN:STANDARD
TZOFFSETFROM:-0500
TZOFFSETTO:-0600
TZNAME:CST
DTSTART:20201101T070000
END:STANDARD
BEGIN:DAYLIGHT
TZOFFSETFROM:-0600
TZOFFSETTO:-0500
TZNAME:CDT
DTSTART:20210314T080000
END:DAYLIGHT
BEGIN:STANDARD
TZOFFSETFROM:-0500
TZOFFSETTO:-0600
TZNAME:CST
DTSTART:20211107T070000
END:STANDARD
BEGIN:DAYLIGHT
TZOFFSETFROM:-0600
TZOFFSETTO:-0500
TZNAME:CDT
DTSTART:20220313T080000
END:DAYLIGHT
BEGIN:STANDARD
TZOFFSETFROM:-0500
TZOFFSETTO:-0600
TZNAME:CST
DTSTART:20221106T070000
END:STANDARD
END:VTIMEZONE
BEGIN:VEVENT
DTSTART;VALUE=DATE:20210524
DTEND;VALUE=DATE:20210607
DTSTAMP:20260422T194957
CREATED:20210508T180944Z
LAST-MODIFIED:20210511T231906Z
UID:1903-1621814400-1623023999@www.box620.org
SUMMARY:Little Elm Spring 2021 Recycling Fundraiser
DESCRIPTION:  \nDonate your unused items to Recycle 2 Support between May 24 and June 6 and we will earn points for every pound donated when you mention Box 620! \n  \n\n\n    \n                        \n                        \n                        \n                    \n\n            \n                                                                \n                                                                            2417 FM 423\, Little Elm TX\, 75068\n                                                            \n    \n\n        \n                    \n                    \n\n            \n                                                                \n                                                                            Mon - Sat 9 am to 7 pm; Sun 10 am to 6 pm\n                                                            \n    \n\n        \n                        \n        \n            \n\n\n\n  \n\n\n    \n                        \n                        \n                        \n                    \n\n        \n    \n                    Accepted items            \n\n    \n    \n                                \n    \n\n\n        \n                        \n        \n                        \n                        \n                        \n                    \n\n            \n                                                                \n                                                        \n            \n                                                                \n                                                        \n            \n                                                                \n                                                        \n    \n\n\n\n        \n        Clothing\, shoes\, accessories\, jewelry     \n\n        \n                    \n                    \n\n            \n                                                                \n                                                        \n            \n                                                                \n                                                        \n            \n                                                                \n                                                        \n    \n\n\n\n        \n        Kitchenware\, small appliances\, electronics\, toys     \n\n        \n                    \n                    \n\n            \n                                                                \n                                                        \n            \n                                                                \n                                                        \n            \n                                                                \n                                                        \n    \n\n\n\n        \n        Books\, DVDs\, VHS tapes\, linens\, towels\, etc.     \n\n        \n                        \n        \n                        \n                        \n                        \n                    \n\n            \n                                                                \n                                                        \n    \n\n\n\n        \n        Televisions no older than 5 years     \n\n        \n                    \n                    \n\n            \n                                                                \n                                                        \n            \n                                                                \n                                                        \n            \n                                                                \n                                                        \n    \n\n\n\n        \n        Computers and mobile devices(please clear all personal information to protect your privacy)     \n\n        \n                        \n        \n            \n\n\n\n  \nDownload the flyer! \n 
URL:https://www.box620.org/event/spring-2021-recycling-fundraiser-little-elm/
LOCATION:Little Elm drop-off location\, 2417 FM 423\, Little Elm\, TX\, 75068\, United States
CATEGORIES:Donate 2 Impact,R2S Spring 2021
ATTACH;FMTTYPE=image/png:https://www.box620.org/wp-content/uploads/2021/05/R2S-Spring-2021-Banner.png
END:VEVENT
BEGIN:VEVENT
DTSTART;VALUE=DATE:20210524
DTEND;VALUE=DATE:20210607
DTSTAMP:20260422T194957
CREATED:20210508T165507Z
LAST-MODIFIED:20210511T231945Z
UID:1820-1621814400-1623023999@www.box620.org
SUMMARY:Frisco Spring 2021 Recycling Fundraiser
DESCRIPTION:  \nDonate your unused items to Recycle 2 Support between May 24 and June 6 and we will earn points for every pound donated when you mention Box 620! \n  \n\n\n    \n                        \n                        \n                        \n                    \n\n            \n                                                                \n                                                                            10601 Ohio Dr\, Frisco TX 75035\n                                                            \n    \n\n        \n                    \n                    \n\n            \n                                                                \n                                                                            Daily 9:30 am to 6 pm (closed 12:30 - 1:30)\n                                                            \n    \n\n        \n                        \n        \n            \n\n\n\n  \n\n\n    \n                        \n                        \n                        \n                    \n\n        \n    \n                    Accepted items            \n\n    \n    \n                                \n    \n\n\n        \n                        \n        \n                        \n                        \n                        \n                    \n\n            \n                                                                \n                                                        \n            \n                                                                \n                                                        \n            \n                                                                \n                                                        \n    \n\n\n\n        \n        Clothing\, shoes\, accessories\, jewelry     \n\n        \n                    \n                    \n\n            \n                                                                \n                                                        \n            \n                                                                \n                                                        \n            \n                                                                \n                                                        \n    \n\n\n\n        \n        Kitchenware\, small appliances\, electronics\, toys     \n\n        \n                    \n                    \n\n            \n                                                                \n                                                        \n            \n                                                                \n                                                        \n            \n                                                                \n                                                        \n    \n\n\n\n        \n        Books\, DVDs\, VHS tapes\, linens\, towels\, etc.     \n\n        \n                        \n        \n                        \n                        \n                        \n                    \n\n            \n                                                                \n                                                        \n    \n\n\n\n        \n        Televisions no older than 5 years     \n\n        \n                    \n                    \n\n            \n                                                                \n                                                        \n            \n                                                                \n                                                        \n            \n                                                                \n                                                        \n    \n\n\n\n        \n        Computers and mobile devices(please clear all personal information to protect your privacy)     \n\n        \n                        \n        \n            \n\n\n\n  \nDownload the flyer! \n 
URL:https://www.box620.org/event/spring-2021-recycling-fundraiser-frisco/
LOCATION:Frisco drop-off location\, 10601 Ohio Dr\, Frisco\, TX\, 75035\, United States
CATEGORIES:Donate 2 Impact,R2S Spring 2021
ATTACH;FMTTYPE=image/png:https://www.box620.org/wp-content/uploads/2021/05/R2S-Spring-2021-Banner.png
END:VEVENT
BEGIN:VEVENT
DTSTART;TZID=America/Chicago:20210516T130000
DTEND;TZID=America/Chicago:20210516T170000
DTSTAMP:20260422T194957
CREATED:20210512T022707Z
LAST-MODIFIED:20210512T022910Z
UID:2098-1621170000-1621184400@www.box620.org
SUMMARY:MSP Car Show at Hula Hut
DESCRIPTION:  \nCome see us at the MSP Car Show taking place at Hula Hut\, where you can see some hot rods and have some awesome food! \n 
URL:https://www.box620.org/event/may-2021-msp-car-show-at-hula-hut/
LOCATION:Hula Hut\, 210 E Eldorado Parkway\, Little Elm\, TX\, 75068\, United States
CATEGORIES:Public events
ATTACH;FMTTYPE=image/png:https://www.box620.org/wp-content/uploads/2021/05/2021-05-MSP-Car-Show-Banner.png
END:VEVENT
END:VCALENDAR