BEGIN:VCALENDAR
VERSION:2.0
PRODID:-//Little Elm Box 620 Support Co. - ECPv6.15.20//NONSGML v1.0//EN
CALSCALE:GREGORIAN
METHOD:PUBLISH
X-ORIGINAL-URL:https://www.box620.org
X-WR-CALDESC:Events for Little Elm Box 620 Support Co.
REFRESH-INTERVAL;VALUE=DURATION:PT1H
X-Robots-Tag:noindex
X-PUBLISHED-TTL:PT1H
BEGIN:VTIMEZONE
TZID:America/Chicago
BEGIN:DAYLIGHT
TZOFFSETFROM:-0600
TZOFFSETTO:-0500
TZNAME:CDT
DTSTART:20210314T080000
END:DAYLIGHT
BEGIN:STANDARD
TZOFFSETFROM:-0500
TZOFFSETTO:-0600
TZNAME:CST
DTSTART:20211107T070000
END:STANDARD
BEGIN:DAYLIGHT
TZOFFSETFROM:-0600
TZOFFSETTO:-0500
TZNAME:CDT
DTSTART:20220313T080000
END:DAYLIGHT
BEGIN:STANDARD
TZOFFSETFROM:-0500
TZOFFSETTO:-0600
TZNAME:CST
DTSTART:20221106T070000
END:STANDARD
BEGIN:DAYLIGHT
TZOFFSETFROM:-0600
TZOFFSETTO:-0500
TZNAME:CDT
DTSTART:20230312T080000
END:DAYLIGHT
BEGIN:STANDARD
TZOFFSETFROM:-0500
TZOFFSETTO:-0600
TZNAME:CST
DTSTART:20231105T070000
END:STANDARD
END:VTIMEZONE
BEGIN:VEVENT
DTSTART;VALUE=DATE:20220815
DTEND;VALUE=DATE:20220829
DTSTAMP:20260422T174106
CREATED:20220806T155732Z
LAST-MODIFIED:20220806T155732Z
UID:8135-1660521600-1661731199@www.box620.org
SUMMARY:Little Elm Summer 2022 Recycling Fundraiser
DESCRIPTION:  \nDonate your unused items to Donate 2 Impact between February 14 and 27 and we will earn points for every pound donated when you mention Box 620! \n  \n\n\n    \n                        \n                        \n                        \n                    \n\n            \n                                                                \n                                                                            2417 FM 423\, Little Elm TX\, 75068\n                                                            \n    \n\n        \n                    \n                    \n\n            \n                                                                \n                                                                            Mon - Sat 9 am to 7 pm; Sun 10 am to 6 pm\n                                                            \n    \n\n        \n                        \n        \n            \n\n\n\n  \n\n\n    \n                        \n                        \n                        \n                    \n\n        \n    \n                    Accepted items            \n\n    \n    \n                                \n    \n\n\n        \n                        \n        \n                        \n                        \n                        \n                    \n\n            \n                                                                \n                                                        \n            \n                                                                \n                                                        \n            \n                                                                \n                                                        \n    \n\n\n\n        \n        Clothing\, shoes\, accessories\, jewelry     \n\n        \n                    \n                    \n\n            \n                                                                \n                                                        \n            \n                                                                \n                                                        \n            \n                                                                \n                                                        \n    \n\n\n\n        \n        Kitchenware\, small appliances\, electronics\, toys     \n\n        \n                    \n                    \n\n            \n                                                                \n                                                        \n            \n                                                                \n                                                        \n            \n                                                                \n                                                        \n    \n\n\n\n        \n        Books\, DVDs\, VHS tapes\, linens\, towels\, etc.     \n\n        \n                        \n        \n                        \n                        \n                        \n                    \n\n            \n                                                                \n                                                        \n    \n\n\n\n        \n        Televisions no older than 5 years     \n\n        \n                    \n                    \n\n            \n                                                                \n                                                        \n            \n                                                                \n                                                        \n            \n                                                                \n                                                        \n    \n\n\n\n        \n        Computers and mobile devices(please clear all personal information to protect your privacy)     \n\n        \n                        \n        \n            \n\n\n\n  \nDownload the flyer!
URL:https://www.box620.org/event/little-elm-summer-2022-recycling-fundraiser/
LOCATION:Little Elm drop-off location\, 2417 FM 423\, Little Elm\, TX\, 75068\, United States
CATEGORIES:D2I Summer 2022,Donate 2 Impact
ATTACH;FMTTYPE=image/png:https://www.box620.org/wp-content/uploads/2022/08/d2i-summer2022banner.png
END:VEVENT
BEGIN:VEVENT
DTSTART;VALUE=DATE:20220815
DTEND;VALUE=DATE:20220829
DTSTAMP:20260422T174106
CREATED:20220806T160037Z
LAST-MODIFIED:20220806T160037Z
UID:8137-1660521600-1661731199@www.box620.org
SUMMARY:Frisco Summer 2022 Recycling Fundraiser
DESCRIPTION:  \nDonate your unused items to Donate 2 Impact between August 15 and 28 and we will earn points for every pound donated when you mention Box 620! \n  \n\n\n    \n                        \n                        \n                        \n                    \n\n            \n                                                                \n                                                                            10601 Ohio Dr\, Frisco TX 75035\n                                                            \n    \n\n        \n                    \n                    \n\n            \n                                                                \n                                                                            Daily 9:30 am to 6 pm (closed 12:30 - 1:30)\n                                                            \n    \n\n        \n                        \n        \n            \n\n\n\n  \n\n\n    \n                        \n                        \n                        \n                    \n\n        \n    \n                    Accepted items            \n\n    \n    \n                                \n    \n\n\n        \n                        \n        \n                        \n                        \n                        \n                    \n\n            \n                                                                \n                                                        \n            \n                                                                \n                                                        \n            \n                                                                \n                                                        \n    \n\n\n\n        \n        Clothing\, shoes\, accessories\, jewelry     \n\n        \n                    \n                    \n\n            \n                                                                \n                                                        \n            \n                                                                \n                                                        \n            \n                                                                \n                                                        \n    \n\n\n\n        \n        Kitchenware\, small appliances\, electronics\, toys     \n\n        \n                    \n                    \n\n            \n                                                                \n                                                        \n            \n                                                                \n                                                        \n            \n                                                                \n                                                        \n    \n\n\n\n        \n        Books\, DVDs\, VHS tapes\, linens\, towels\, etc.     \n\n        \n                        \n        \n                        \n                        \n                        \n                    \n\n            \n                                                                \n                                                        \n    \n\n\n\n        \n        Televisions no older than 5 years     \n\n        \n                    \n                    \n\n            \n                                                                \n                                                        \n            \n                                                                \n                                                        \n            \n                                                                \n                                                        \n    \n\n\n\n        \n        Computers and mobile devices(please clear all personal information to protect your privacy)     \n\n        \n                        \n        \n            \n\n\n\n  \nDownload the flyer!
URL:https://www.box620.org/event/frisco-summer-2022-recycling-fundraiser/
LOCATION:Frisco drop-off location\, 10601 Ohio Dr\, Frisco\, TX\, 75035\, United States
CATEGORIES:D2I Summer 2022,Donate 2 Impact
ATTACH;FMTTYPE=image/png:https://www.box620.org/wp-content/uploads/2022/08/d2i-summer2022banner.png
END:VEVENT
END:VCALENDAR